BEGIN:VCALENDAR
VERSION:2.0
PRODID:-//hacksw/handcal//NONSGML v1.0//EN
BEGIN:VEVENT
DTSTART:20210728T100000
DTEND:20210728T150500
LOCATION:
ORGANIZER;CN=Barbara STEPIEN - FWIS Poland :MAILTO:barbara.stepien@loreal.com
SUMMARY:FWIS Poland Jury meeting 2021
DESCRIPTION:\n
URL:https://community.forwomeninscience.com/en/group/fwis-poland/40/calendar/fwis-poland-jury-meeting-2021/2021/07/28/51
BEGIN:VALARM
TRIGGER:-P0DT1H0M0S
ACTION:DISPLAY
END:VALARM
END:VEVENT
END:VCALENDAR