BEGIN:VCALENDAR
VERSION:2.0
PRODID:-//hacksw/handcal//NONSGML v1.0//EN
BEGIN:VEVENT
DTSTART:20210719T134000
DTEND:20210722T134500
LOCATION:https://congresosebbm.barcelona2021.es/registration-grants/
ORGANIZER;CN=Andrea Gutierrez Sanchez - FWIS Spain :MAILTO:andrea.gutierrezsanchez@loreal.com
SUMMARY:43 Congreso de la SEBBM
DESCRIPTION:Un año más el Comité Organizador nos invita a asistir al  “43 Congreso de la Sociedad Española de Bioquímica y Biología Molecular”, que se celebrará online del 19 al 22 de julio de 2021. Desde...
URL:https://community.forwomeninscience.com/en/group/fwis-spain/33/calendar/43-congreso-de-la-sebbm/2021/07/19/45
BEGIN:VALARM
TRIGGER:-P0DT1H0M0S
ACTION:DISPLAY
END:VALARM
END:VEVENT
END:VCALENDAR