BEGIN:VCALENDAR
VERSION:2.0
PRODID:-//hacksw/handcal//NONSGML v1.0//EN
BEGIN:VEVENT
DTSTART:20210916T160000
DTEND:20210916T190000
LOCATION:MTA Budapest \nSzéchenyi István tér 9. \n1051 Budapest
ORGANIZER;CN=Rebeka BROVIAC - FWIS Hungary :MAILTO:rebeka.broviac@loreal.com
SUMMARY:Díjátadó
DESCRIPTION:\n
URL:https://community.forwomeninscience.com/en/group/fwis-hungary/37/calendar/dijatado/2021/09/16/44
BEGIN:VALARM
TRIGGER:-P0DT1H0M0S
ACTION:DISPLAY
END:VALARM
END:VEVENT
END:VCALENDAR