BEGIN:VCALENDAR
VERSION:2.0
PRODID:-//hacksw/handcal//NONSGML v1.0//EN
BEGIN:VEVENT
DTSTART:20260121T100000
DTEND:20260121T180000
LOCATION:
ORGANIZER;CN=FWIS Team:MAILTO:forwomeninscience.info@loreal.com
SUMMARY:Information Session FWIS Community Platform – Join Us!
DESCRIPTION:Join us for the the upcoming information sessions about the FWIS Community Platform, taking place online tomorrow, Wednesday, 21 January.These sessions are a great opportunity to get familiar with the...
URL:https://community.forwomeninscience.com/en/event/information-session-fwis-community-platform-join-us/2026/01/21/387
BEGIN:VALARM
TRIGGER:-P0DT1H0M0S
ACTION:DISPLAY
END:VALARM
END:VEVENT
END:VCALENDAR