BEGIN:VCALENDAR
VERSION:2.0
PRODID:-//hacksw/handcal//NONSGML v1.0//EN
BEGIN:VEVENT
DTSTART:20250826T090000
DTEND:20250826T130000
LOCATION:Pretoria
ORGANIZER;CN=FWIS Team:MAILTO:forwomeninscience.info@loreal.com
SUMMARY:Save the date: 26 August 2025 - Science Diplomacy Workshop African Academy of Sciences
DESCRIPTION:The African Academy of Sciences is inviting early-career professionals to take part in a Science Diplomacy Workshop on 26 August 2025, taking place in person in Pretoria, South Africa, and accessible ...
URL:https://community.forwomeninscience.com/en/event/save-the-date-26-august-2025-science-diplomacy-workshop-african-academy-of-sciences/2025/08/26/363
BEGIN:VALARM
TRIGGER:-P0DT1H0M0S
ACTION:DISPLAY
END:VALARM
END:VEVENT
END:VCALENDAR