BEGIN:VCALENDAR
VERSION:2.0
PRODID:-//hacksw/handcal//NONSGML v1.0//EN
BEGIN:VEVENT
DTSTART:20250211T140000
DTEND:20250211T203000
LOCATION:UNESCO Headquarter (Room II), 125 Avenue de Suffren, 75007 Paris, France
ORGANIZER;CN=FWIS Team:MAILTO:forwomeninscience.info@loreal.com
SUMMARY:Unpacking STEM Careers: Her Voice in Science - Join Us for the 10th Anniversary of the International Day of Women and Girls in Science
DESCRIPTION:Dear Alumnae,UNESCO is pleased to invite you to the special event ‘Unpacking STEM Careers: Her Voice in Science’, organised to celebrate the 10th anniversary of the International Day of Girls and...
URL:https://community.forwomeninscience.com/en/event/unpacking-stem-careers-her-voice-in-science-join-us-for-the-10th-anniversary-of-the-international-day-of-women-and-girls-in-science/2025/02/11/319
BEGIN:VALARM
TRIGGER:-P0DT1H0M0S
ACTION:DISPLAY
END:VALARM
END:VEVENT
END:VCALENDAR