BEGIN:VCALENDAR
VERSION:2.0
PRODID:-//hacksw/handcal//NONSGML v1.0//EN
BEGIN:VEVENT
DTSTART:20231207T173000
DTEND:20231207T203000
LOCATION:Grand Poet Hotel \n5, Raiņa bulvāris \n1050 RIGA
ORGANIZER;CN=Karin Laar - FWIS Baltics:MAILTO:karin.laar@loreal.com
SUMMARY:FWIS Baltic Alumni Event 2023
DESCRIPTION:
URL:https://community.forwomeninscience.com/en/group/fwis-baltics/82/calendar/fwis-baltic-alumni-event-2023/2023/12/07/272
BEGIN:VALARM
TRIGGER:-P0DT1H0M0S
ACTION:DISPLAY
END:VALARM
END:VEVENT
END:VCALENDAR