BEGIN:VCALENDAR
VERSION:2.0
PRODID:-//hacksw/handcal//NONSGML v1.0//EN
BEGIN:VEVENT
DTSTART:20230125T170000
DTEND:20230125T200000
LOCATION:HOTEL BERGS, Glass Hall  \nElizabetes street 83/85
ORGANIZER;CN=Karin Laar - FWIS Baltics:MAILTO:karin.laar@loreal.com
SUMMARY:L´Oréal-UNESCO For Women in Science Young Talent Program Baltic Alumni event
DESCRIPTION:
URL:https://community.forwomeninscience.com/en/group/fwis-baltics/82/calendar/l-oreal-unesco-for-women-in-science-young-talent-program-baltic-alumni-event/2023/01/25/227
BEGIN:VALARM
TRIGGER:-P0DT1H0M0S
ACTION:DISPLAY
END:VALARM
END:VEVENT
END:VCALENDAR