BEGIN:VCALENDAR
VERSION:2.0
PRODID:-//hacksw/handcal//NONSGML v1.0//EN
BEGIN:VEVENT
DTSTART:20220303T030000
DTEND:20220303T073000
LOCATION:https://community.forwomeninscience.com
ORGANIZER;CN=FWIS Team:MAILTO:forwomeninscience.info@loreal.com
SUMMARY:NORTH AMERICA - For Women in Science X Coursera
DESCRIPTION:Dear Alumnae, \nThis year, the For Women in Science Community Platform is partnering with the  online learning platform Coursera to propose 250 licenses for a period of one year!Coursera is an online ...
URL:https://community.forwomeninscience.com/en/event/north-america-for-women-in-science-x-coursera/2022/03/03/178
BEGIN:VALARM
TRIGGER:-P0DT1H0M0S
ACTION:DISPLAY
END:VALARM
END:VEVENT
END:VCALENDAR