BEGIN:VCALENDAR
VERSION:2.0
PRODID:-//hacksw/handcal//NONSGML v1.0//EN
BEGIN:VEVENT
DTSTART:20211207T080000
DTEND:20211214T235500
LOCATION:https://events.forwomeninscience.com/
ORGANIZER;CN=Anaïs Libebe:MAILTO:anais.libebe@loreal.com
SUMMARY:For Women in Science Festival
DESCRIPTION:From December 7th, join us at the first-ever For Women in Science Festival\n40 women scientists from all over the world speaking about their careers, work and challenges during a series of talks,...
URL:https://community.forwomeninscience.com/en/event/for-women-in-science-festival/2021/12/07/152
BEGIN:VALARM
TRIGGER:-P0DT1H0M0S
ACTION:DISPLAY
END:VALARM
END:VEVENT
END:VCALENDAR