BEGIN:VCALENDAR
VERSION:2.0
PRODID:-//hacksw/handcal//NONSGML v1.0//EN
BEGIN:VEVENT
DTSTART:20211206T140000
DTEND:20211210T160000
LOCATION:https://sdgs.un.org/events/iatt-ws6-sadc-training-sti-sdgs-34354
ORGANIZER;CN=FWIS Team:MAILTO:forwomeninscience.info@loreal.com
SUMMARY:UN-IATT on-line training sessions on STI policy and policy instruments for SDGs for the SADC region
DESCRIPTION:Regions and countries need to build capacities to create robust STI systems for achieving SDGs and addressing the pressing environmental, health, economic and social challenges of the global crisis,...
URL:https://community.forwomeninscience.com/en/event/un-iatt-on-line-training-sessions-on-sti-policy-and-policy-instruments-for-sdgs-for-the-sadc-region/2021/12/06/150
BEGIN:VALARM
TRIGGER:-P0DT1H0M0S
ACTION:DISPLAY
END:VALARM
END:VEVENT
END:VCALENDAR