BEGIN:VCALENDAR
VERSION:2.0
PRODID:-//hacksw/handcal//NONSGML v1.0//EN
BEGIN:VEVENT
DTSTART:20210928T000000
DTEND:20210929T000000
LOCATION:https://en.unesco.org/commemorations/accesstoinformationday
ORGANIZER;CN=FWIS Team:MAILTO:forwomeninscience.info@loreal.com
SUMMARY:International Day for Universal Access to Information
DESCRIPTION:On 17 November 2015, UNESCO declared 28 September as International Day for Universal Access to Information (IDUAI). Considering that several civil society organizations and government bodies in the...
URL:https://community.forwomeninscience.com/en/event/international-day-for-universal-access-to-information/2021/09/28/103
BEGIN:VALARM
TRIGGER:-P0DT1H0M0S
ACTION:DISPLAY
END:VALARM
END:VEVENT
END:VCALENDAR